BEGIN:VCALENDAR
VERSION:2.0
PRODID:-//A1 First Aid - ECPv6.15.17.1//NONSGML v1.0//EN
CALSCALE:GREGORIAN
METHOD:PUBLISH
X-WR-CALNAME:A1 First Aid
X-ORIGINAL-URL:https://www.a1firstaid.co.nz
X-WR-CALDESC:Events for A1 First Aid
REFRESH-INTERVAL;VALUE=DURATION:PT1H
X-Robots-Tag:noindex
X-PUBLISHED-TTL:PT1H
BEGIN:VTIMEZONE
TZID:Pacific/Auckland
BEGIN:STANDARD
TZOFFSETFROM:+1300
TZOFFSETTO:+1200
TZNAME:NZST
DTSTART:20250405T140000
END:STANDARD
BEGIN:DAYLIGHT
TZOFFSETFROM:+1200
TZOFFSETTO:+1300
TZNAME:NZDT
DTSTART:20250927T140000
END:DAYLIGHT
BEGIN:STANDARD
TZOFFSETFROM:+1300
TZOFFSETTO:+1200
TZNAME:NZST
DTSTART:20260404T140000
END:STANDARD
BEGIN:DAYLIGHT
TZOFFSETFROM:+1200
TZOFFSETTO:+1300
TZNAME:NZDT
DTSTART:20260926T140000
END:DAYLIGHT
BEGIN:STANDARD
TZOFFSETFROM:+1300
TZOFFSETTO:+1200
TZNAME:NZST
DTSTART:20270403T140000
END:STANDARD
BEGIN:DAYLIGHT
TZOFFSETFROM:+1200
TZOFFSETTO:+1300
TZNAME:NZDT
DTSTART:20270925T140000
END:DAYLIGHT
END:VTIMEZONE
BEGIN:VEVENT
DTSTART;TZID=Pacific/Auckland:20260806T083000
DTEND;TZID=Pacific/Auckland:20260806T170000
DTSTAMP:20260426T152138
CREATED:20251020T033831Z
LAST-MODIFIED:20251020T033831Z
UID:10001365-1786005000-1786035600@www.a1firstaid.co.nz
SUMMARY:Foundation First Aid Workplace Level 1
DESCRIPTION:
URL:https://www.a1firstaid.co.nz/event/foundation-first-aid-workplace-level-1-54/
LOCATION:Henderson\, Quality Hotel Lincoln Green\, 159 Lincoln Road\, Henderson\, 0610
CATEGORIES:Foundation First Aid Workplace - Level 1,Henderson
ATTACH;FMTTYPE=image/webp:https://www.a1firstaid.co.nz/wp-content/uploads/2025/06/Foundation-First-Aid-Workplace-–-thumb.webp
GEO:-36.86294;174.630982
X-APPLE-STRUCTURED-LOCATION;VALUE=URI;X-ADDRESS=Henderson Quality Hotel Lincoln Green 159 Lincoln Road Henderson 0610;X-APPLE-RADIUS=500;X-TITLE=Quality Hotel Lincoln Green\, 159 Lincoln Road:geo:174.630982,-36.86294
END:VEVENT
BEGIN:VEVENT
DTSTART;TZID=Pacific/Auckland:20260811T080000
DTEND;TZID=Pacific/Auckland:20260811T151500
DTSTAMP:20260426T152138
CREATED:20251128T000740Z
LAST-MODIFIED:20251128T000741Z
UID:10001419-1786435200-1786461300@www.a1firstaid.co.nz
SUMMARY:Electrical Competency Refresher
DESCRIPTION:
URL:https://www.a1firstaid.co.nz/event/electrical-competency-refresher-28/
LOCATION:Henderson\, Quality Hotel Lincoln Green\, 159 Lincoln Road\, Henderson\, 0610
CATEGORIES:Electrical Competency Refresher,Henderson
ATTACH;FMTTYPE=image/webp:https://www.a1firstaid.co.nz/wp-content/uploads/2025/06/Electrical-Competency-Refresher_thumb.webp
GEO:-36.86294;174.630982
X-APPLE-STRUCTURED-LOCATION;VALUE=URI;X-ADDRESS=Henderson Quality Hotel Lincoln Green 159 Lincoln Road Henderson 0610;X-APPLE-RADIUS=500;X-TITLE=Quality Hotel Lincoln Green\, 159 Lincoln Road:geo:174.630982,-36.86294
END:VEVENT
BEGIN:VEVENT
DTSTART;TZID=Pacific/Auckland:20260815T083000
DTEND;TZID=Pacific/Auckland:20260815T151500
DTSTAMP:20260426T152138
CREATED:20251020T033842Z
LAST-MODIFIED:20251020T033843Z
UID:10001367-1786782600-1786806900@www.a1firstaid.co.nz
SUMMARY:First Aid Revalidation Refresher
DESCRIPTION:
URL:https://www.a1firstaid.co.nz/event/first-aid-revalidation-refresher-56/
LOCATION:Henderson\, Quality Hotel Lincoln Green\, 159 Lincoln Road\, Henderson\, 0610
CATEGORIES:First Aid Revalidation - Refresher,Henderson
ATTACH;FMTTYPE=image/webp:https://www.a1firstaid.co.nz/wp-content/uploads/2025/06/First-Aid-Revalidation-Refresher-thumb.webp
GEO:-36.86294;174.630982
X-APPLE-STRUCTURED-LOCATION;VALUE=URI;X-ADDRESS=Henderson Quality Hotel Lincoln Green 159 Lincoln Road Henderson 0610;X-APPLE-RADIUS=500;X-TITLE=Quality Hotel Lincoln Green\, 159 Lincoln Road:geo:174.630982,-36.86294
END:VEVENT
BEGIN:VEVENT
DTSTART;TZID=Pacific/Auckland:20260815T083000
DTEND;TZID=Pacific/Auckland:20260815T170000
DTSTAMP:20260426T152138
CREATED:20251020T033836Z
LAST-MODIFIED:20251020T033837Z
UID:10001366-1786782600-1786813200@www.a1firstaid.co.nz
SUMMARY:Foundation First Aid Workplace Level 1
DESCRIPTION:
URL:https://www.a1firstaid.co.nz/event/foundation-first-aid-workplace-level-1-55/
LOCATION:Henderson\, Quality Hotel Lincoln Green\, 159 Lincoln Road\, Henderson\, 0610
CATEGORIES:Foundation First Aid Workplace - Level 1,Henderson
ATTACH;FMTTYPE=image/webp:https://www.a1firstaid.co.nz/wp-content/uploads/2025/06/Foundation-First-Aid-Workplace-–-thumb.webp
GEO:-36.86294;174.630982
X-APPLE-STRUCTURED-LOCATION;VALUE=URI;X-ADDRESS=Henderson Quality Hotel Lincoln Green 159 Lincoln Road Henderson 0610;X-APPLE-RADIUS=500;X-TITLE=Quality Hotel Lincoln Green\, 159 Lincoln Road:geo:174.630982,-36.86294
END:VEVENT
BEGIN:VEVENT
DTSTART;TZID=Pacific/Auckland:20260818T083000
DTEND;TZID=Pacific/Auckland:20260818T170000
DTSTAMP:20260426T152138
CREATED:20251020T033849Z
LAST-MODIFIED:20251020T033849Z
UID:10001368-1787041800-1787072400@www.a1firstaid.co.nz
SUMMARY:Foundation First Aid Workplace Level 1
DESCRIPTION:
URL:https://www.a1firstaid.co.nz/event/foundation-first-aid-workplace-level-1-56/
LOCATION:Henderson\, Quality Hotel Lincoln Green\, 159 Lincoln Road\, Henderson\, 0610
CATEGORIES:Foundation First Aid Workplace - Level 1,Henderson
ATTACH;FMTTYPE=image/webp:https://www.a1firstaid.co.nz/wp-content/uploads/2025/06/Foundation-First-Aid-Workplace-–-thumb.webp
GEO:-36.86294;174.630982
X-APPLE-STRUCTURED-LOCATION;VALUE=URI;X-ADDRESS=Henderson Quality Hotel Lincoln Green 159 Lincoln Road Henderson 0610;X-APPLE-RADIUS=500;X-TITLE=Quality Hotel Lincoln Green\, 159 Lincoln Road:geo:174.630982,-36.86294
END:VEVENT
BEGIN:VEVENT
DTSTART;TZID=Pacific/Auckland:20260820T083000
DTEND;TZID=Pacific/Auckland:20260820T151500
DTSTAMP:20260426T152138
CREATED:20251020T033855Z
LAST-MODIFIED:20251020T033856Z
UID:10001369-1787214600-1787238900@www.a1firstaid.co.nz
SUMMARY:First Aid Revalidation Refresher
DESCRIPTION:
URL:https://www.a1firstaid.co.nz/event/first-aid-revalidation-refresher-57/
LOCATION:Henderson\, Quality Hotel Lincoln Green\, 159 Lincoln Road\, Henderson\, 0610
CATEGORIES:First Aid Revalidation - Refresher,Henderson
ATTACH;FMTTYPE=image/webp:https://www.a1firstaid.co.nz/wp-content/uploads/2025/06/First-Aid-Revalidation-Refresher-thumb.webp
GEO:-36.86294;174.630982
X-APPLE-STRUCTURED-LOCATION;VALUE=URI;X-ADDRESS=Henderson Quality Hotel Lincoln Green 159 Lincoln Road Henderson 0610;X-APPLE-RADIUS=500;X-TITLE=Quality Hotel Lincoln Green\, 159 Lincoln Road:geo:174.630982,-36.86294
END:VEVENT
BEGIN:VEVENT
DTSTART;TZID=Pacific/Auckland:20260907T083000
DTEND;TZID=Pacific/Auckland:20260907T170000
DTSTAMP:20260426T152138
CREATED:20251020T205959Z
LAST-MODIFIED:20251020T210000Z
UID:10001370-1788769800-1788800400@www.a1firstaid.co.nz
SUMMARY:Foundation First Aid Workplace Level 1
DESCRIPTION:
URL:https://www.a1firstaid.co.nz/event/foundation-first-aid-workplace-level-1-57/
LOCATION:Henderson\, Quality Hotel Lincoln Green\, 159 Lincoln Road\, Henderson\, 0610
CATEGORIES:Foundation First Aid Workplace - Level 1,Henderson
ATTACH;FMTTYPE=image/webp:https://www.a1firstaid.co.nz/wp-content/uploads/2025/06/Foundation-First-Aid-Workplace-–-thumb.webp
GEO:-36.86294;174.630982
X-APPLE-STRUCTURED-LOCATION;VALUE=URI;X-ADDRESS=Henderson Quality Hotel Lincoln Green 159 Lincoln Road Henderson 0610;X-APPLE-RADIUS=500;X-TITLE=Quality Hotel Lincoln Green\, 159 Lincoln Road:geo:174.630982,-36.86294
END:VEVENT
BEGIN:VEVENT
DTSTART;TZID=Pacific/Auckland:20260908T083000
DTEND;TZID=Pacific/Auckland:20260908T151500
DTSTAMP:20260426T152138
CREATED:20251020T210007Z
LAST-MODIFIED:20251020T210008Z
UID:10001371-1788856200-1788880500@www.a1firstaid.co.nz
SUMMARY:First Aid Revalidation Refresher
DESCRIPTION:
URL:https://www.a1firstaid.co.nz/event/first-aid-revalidation-refresher-58/
LOCATION:Henderson\, Quality Hotel Lincoln Green\, 159 Lincoln Road\, Henderson\, 0610
CATEGORIES:First Aid Revalidation - Refresher,Henderson
ATTACH;FMTTYPE=image/webp:https://www.a1firstaid.co.nz/wp-content/uploads/2025/06/First-Aid-Revalidation-Refresher-thumb.webp
GEO:-36.86294;174.630982
X-APPLE-STRUCTURED-LOCATION;VALUE=URI;X-ADDRESS=Henderson Quality Hotel Lincoln Green 159 Lincoln Road Henderson 0610;X-APPLE-RADIUS=500;X-TITLE=Quality Hotel Lincoln Green\, 159 Lincoln Road:geo:174.630982,-36.86294
END:VEVENT
BEGIN:VEVENT
DTSTART;TZID=Pacific/Auckland:20260910T080000
DTEND;TZID=Pacific/Auckland:20260910T150000
DTSTAMP:20260426T152138
CREATED:20251020T210012Z
LAST-MODIFIED:20251020T210013Z
UID:10001372-1789027200-1789052400@www.a1firstaid.co.nz
SUMMARY:Electrical Competency Refresher
DESCRIPTION:
URL:https://www.a1firstaid.co.nz/event/electrical-competency-refresher-29/
LOCATION:Henderson\, Quality Hotel Lincoln Green\, 159 Lincoln Road\, Henderson\, 0610
CATEGORIES:Electrical Competency Refresher,Henderson
ATTACH;FMTTYPE=image/webp:https://www.a1firstaid.co.nz/wp-content/uploads/2025/06/Electrical-Competency-Refresher_thumb.webp
GEO:-36.86294;174.630982
X-APPLE-STRUCTURED-LOCATION;VALUE=URI;X-ADDRESS=Henderson Quality Hotel Lincoln Green 159 Lincoln Road Henderson 0610;X-APPLE-RADIUS=500;X-TITLE=Quality Hotel Lincoln Green\, 159 Lincoln Road:geo:174.630982,-36.86294
END:VEVENT
BEGIN:VEVENT
DTSTART;TZID=Pacific/Auckland:20260912T083000
DTEND;TZID=Pacific/Auckland:20260912T151500
DTSTAMP:20260426T152138
CREATED:20251020T210024Z
LAST-MODIFIED:20251020T210025Z
UID:10001374-1789201800-1789226100@www.a1firstaid.co.nz
SUMMARY:First Aid Revalidation Refresher
DESCRIPTION:
URL:https://www.a1firstaid.co.nz/event/first-aid-revalidation-refresher-59/
LOCATION:Henderson\, Quality Hotel Lincoln Green\, 159 Lincoln Road\, Henderson\, 0610
CATEGORIES:First Aid Revalidation - Refresher,Henderson
ATTACH;FMTTYPE=image/webp:https://www.a1firstaid.co.nz/wp-content/uploads/2025/06/First-Aid-Revalidation-Refresher-thumb.webp
GEO:-36.86294;174.630982
X-APPLE-STRUCTURED-LOCATION;VALUE=URI;X-ADDRESS=Henderson Quality Hotel Lincoln Green 159 Lincoln Road Henderson 0610;X-APPLE-RADIUS=500;X-TITLE=Quality Hotel Lincoln Green\, 159 Lincoln Road:geo:174.630982,-36.86294
END:VEVENT
BEGIN:VEVENT
DTSTART;TZID=Pacific/Auckland:20260912T083000
DTEND;TZID=Pacific/Auckland:20260912T170000
DTSTAMP:20260426T152138
CREATED:20251020T210018Z
LAST-MODIFIED:20251020T210019Z
UID:10001373-1789201800-1789232400@www.a1firstaid.co.nz
SUMMARY:Foundation First Aid Workplace Level 1
DESCRIPTION:
URL:https://www.a1firstaid.co.nz/event/foundation-first-aid-workplace-level-1-58/
LOCATION:Henderson\, Quality Hotel Lincoln Green\, 159 Lincoln Road\, Henderson\, 0610
CATEGORIES:Foundation First Aid Workplace - Level 1,Henderson
ATTACH;FMTTYPE=image/webp:https://www.a1firstaid.co.nz/wp-content/uploads/2025/06/Foundation-First-Aid-Workplace-–-thumb.webp
GEO:-36.86294;174.630982
X-APPLE-STRUCTURED-LOCATION;VALUE=URI;X-ADDRESS=Henderson Quality Hotel Lincoln Green 159 Lincoln Road Henderson 0610;X-APPLE-RADIUS=500;X-TITLE=Quality Hotel Lincoln Green\, 159 Lincoln Road:geo:174.630982,-36.86294
END:VEVENT
BEGIN:VEVENT
DTSTART;TZID=Pacific/Auckland:20260923T083000
DTEND;TZID=Pacific/Auckland:20260923T170000
DTSTAMP:20260426T152138
CREATED:20251020T210030Z
LAST-MODIFIED:20251020T210031Z
UID:10001375-1790152200-1790182800@www.a1firstaid.co.nz
SUMMARY:Foundation First Aid Workplace Level 1
DESCRIPTION:
URL:https://www.a1firstaid.co.nz/event/foundation-first-aid-workplace-level-1-59/
LOCATION:Henderson\, Quality Hotel Lincoln Green\, 159 Lincoln Road\, Henderson\, 0610
CATEGORIES:Foundation First Aid Workplace - Level 1,Henderson
ATTACH;FMTTYPE=image/webp:https://www.a1firstaid.co.nz/wp-content/uploads/2025/06/Foundation-First-Aid-Workplace-–-thumb.webp
GEO:-36.86294;174.630982
X-APPLE-STRUCTURED-LOCATION;VALUE=URI;X-ADDRESS=Henderson Quality Hotel Lincoln Green 159 Lincoln Road Henderson 0610;X-APPLE-RADIUS=500;X-TITLE=Quality Hotel Lincoln Green\, 159 Lincoln Road:geo:174.630982,-36.86294
END:VEVENT
BEGIN:VEVENT
DTSTART;TZID=Pacific/Auckland:20260925T083000
DTEND;TZID=Pacific/Auckland:20260925T151500
DTSTAMP:20260426T152138
CREATED:20251020T210036Z
LAST-MODIFIED:20251020T210037Z
UID:10001376-1790325000-1790349300@www.a1firstaid.co.nz
SUMMARY:First Aid Revalidation Refresher
DESCRIPTION:
URL:https://www.a1firstaid.co.nz/event/first-aid-revalidation-refresher-60/
LOCATION:Henderson\, Quality Hotel Lincoln Green\, 159 Lincoln Road\, Henderson\, 0610
CATEGORIES:First Aid Revalidation - Refresher,Henderson
ATTACH;FMTTYPE=image/webp:https://www.a1firstaid.co.nz/wp-content/uploads/2025/06/First-Aid-Revalidation-Refresher-thumb.webp
GEO:-36.86294;174.630982
X-APPLE-STRUCTURED-LOCATION;VALUE=URI;X-ADDRESS=Henderson Quality Hotel Lincoln Green 159 Lincoln Road Henderson 0610;X-APPLE-RADIUS=500;X-TITLE=Quality Hotel Lincoln Green\, 159 Lincoln Road:geo:174.630982,-36.86294
END:VEVENT
BEGIN:VEVENT
DTSTART;TZID=Pacific/Auckland:20261005T083000
DTEND;TZID=Pacific/Auckland:20261005T151500
DTSTAMP:20260426T152138
CREATED:20251021T230055Z
LAST-MODIFIED:20251021T230056Z
UID:10001399-1791189000-1791213300@www.a1firstaid.co.nz
SUMMARY:First Aid Revalidation Refresher
DESCRIPTION:
URL:https://www.a1firstaid.co.nz/event/first-aid-revalidation-refresher-70/
LOCATION:Henderson\, Quality Hotel Lincoln Green\, 159 Lincoln Road\, Henderson\, 0610
CATEGORIES:First Aid Revalidation - Refresher,Henderson
ATTACH;FMTTYPE=image/webp:https://www.a1firstaid.co.nz/wp-content/uploads/2025/06/First-Aid-Revalidation-Refresher-thumb.webp
GEO:-36.86294;174.630982
X-APPLE-STRUCTURED-LOCATION;VALUE=URI;X-ADDRESS=Henderson Quality Hotel Lincoln Green 159 Lincoln Road Henderson 0610;X-APPLE-RADIUS=500;X-TITLE=Quality Hotel Lincoln Green\, 159 Lincoln Road:geo:174.630982,-36.86294
END:VEVENT
BEGIN:VEVENT
DTSTART;TZID=Pacific/Auckland:20261008T083000
DTEND;TZID=Pacific/Auckland:20261008T170000
DTSTAMP:20260426T152138
CREATED:20251021T231959Z
LAST-MODIFIED:20251021T232000Z
UID:10001401-1791448200-1791478800@www.a1firstaid.co.nz
SUMMARY:Foundation First Aid Workplace Level 1
DESCRIPTION:
URL:https://www.a1firstaid.co.nz/event/foundation-first-aid-workplace-level-1-70/
LOCATION:Henderson\, Quality Hotel Lincoln Green\, 159 Lincoln Road\, Henderson\, 0610
CATEGORIES:Foundation First Aid Workplace - Level 1,Henderson
ATTACH;FMTTYPE=image/webp:https://www.a1firstaid.co.nz/wp-content/uploads/2025/06/Foundation-First-Aid-Workplace-–-thumb.webp
GEO:-36.86294;174.630982
X-APPLE-STRUCTURED-LOCATION;VALUE=URI;X-ADDRESS=Henderson Quality Hotel Lincoln Green 159 Lincoln Road Henderson 0610;X-APPLE-RADIUS=500;X-TITLE=Quality Hotel Lincoln Green\, 159 Lincoln Road:geo:174.630982,-36.86294
END:VEVENT
BEGIN:VEVENT
DTSTART;TZID=Pacific/Auckland:20261010T083000
DTEND;TZID=Pacific/Auckland:20261010T151500
DTSTAMP:20260426T152138
CREATED:20251021T232013Z
LAST-MODIFIED:20251021T232014Z
UID:10001403-1791621000-1791645300@www.a1firstaid.co.nz
SUMMARY:First Aid Revalidation Refresher
DESCRIPTION:
URL:https://www.a1firstaid.co.nz/event/first-aid-revalidation-refresher-71/
LOCATION:Henderson\, Quality Hotel Lincoln Green\, 159 Lincoln Road\, Henderson\, 0610
CATEGORIES:First Aid Revalidation - Refresher,Henderson
ATTACH;FMTTYPE=image/webp:https://www.a1firstaid.co.nz/wp-content/uploads/2025/06/First-Aid-Revalidation-Refresher-thumb.webp
GEO:-36.86294;174.630982
X-APPLE-STRUCTURED-LOCATION;VALUE=URI;X-ADDRESS=Henderson Quality Hotel Lincoln Green 159 Lincoln Road Henderson 0610;X-APPLE-RADIUS=500;X-TITLE=Quality Hotel Lincoln Green\, 159 Lincoln Road:geo:174.630982,-36.86294
END:VEVENT
BEGIN:VEVENT
DTSTART;TZID=Pacific/Auckland:20261010T083000
DTEND;TZID=Pacific/Auckland:20261010T170000
DTSTAMP:20260426T152138
CREATED:20251021T232006Z
LAST-MODIFIED:20251021T232007Z
UID:10001402-1791621000-1791651600@www.a1firstaid.co.nz
SUMMARY:Foundation First Aid Workplace Level 1
DESCRIPTION:
URL:https://www.a1firstaid.co.nz/event/foundation-first-aid-workplace-level-1-71/
LOCATION:Henderson\, Quality Hotel Lincoln Green\, 159 Lincoln Road\, Henderson\, 0610
CATEGORIES:Foundation First Aid Workplace - Level 1,Henderson
ATTACH;FMTTYPE=image/webp:https://www.a1firstaid.co.nz/wp-content/uploads/2025/06/Foundation-First-Aid-Workplace-–-thumb.webp
GEO:-36.86294;174.630982
X-APPLE-STRUCTURED-LOCATION;VALUE=URI;X-ADDRESS=Henderson Quality Hotel Lincoln Green 159 Lincoln Road Henderson 0610;X-APPLE-RADIUS=500;X-TITLE=Quality Hotel Lincoln Green\, 159 Lincoln Road:geo:174.630982,-36.86294
END:VEVENT
BEGIN:VEVENT
DTSTART;TZID=Pacific/Auckland:20261013T080000
DTEND;TZID=Pacific/Auckland:20261013T150000
DTSTAMP:20260426T152138
CREATED:20251202T012755Z
LAST-MODIFIED:20251202T012755Z
UID:10001423-1791878400-1791903600@www.a1firstaid.co.nz
SUMMARY:Electrical Competency Refresher
DESCRIPTION:
URL:https://www.a1firstaid.co.nz/event/electrical-competency-refresher-27/
LOCATION:Henderson\, Quality Hotel Lincoln Green\, 159 Lincoln Road\, Henderson\, 0610
CATEGORIES:Electrical Competency Refresher,Henderson
ATTACH;FMTTYPE=image/webp:https://www.a1firstaid.co.nz/wp-content/uploads/2025/06/Electrical-Competency-Refresher_thumb.webp
GEO:-36.86294;174.630982
X-APPLE-STRUCTURED-LOCATION;VALUE=URI;X-ADDRESS=Henderson Quality Hotel Lincoln Green 159 Lincoln Road Henderson 0610;X-APPLE-RADIUS=500;X-TITLE=Quality Hotel Lincoln Green\, 159 Lincoln Road:geo:174.630982,-36.86294
END:VEVENT
BEGIN:VEVENT
DTSTART;TZID=Pacific/Auckland:20261021T083000
DTEND;TZID=Pacific/Auckland:20261021T151500
DTSTAMP:20260426T152138
CREATED:20251021T232019Z
LAST-MODIFIED:20251021T232020Z
UID:10001404-1792571400-1792595700@www.a1firstaid.co.nz
SUMMARY:First Aid Revalidation Refresher
DESCRIPTION:
URL:https://www.a1firstaid.co.nz/event/first-aid-revalidation-refresher-72/
LOCATION:Henderson\, Quality Hotel Lincoln Green\, 159 Lincoln Road\, Henderson\, 0610
CATEGORIES:First Aid Revalidation - Refresher,Henderson
ATTACH;FMTTYPE=image/webp:https://www.a1firstaid.co.nz/wp-content/uploads/2025/06/First-Aid-Revalidation-Refresher-thumb.webp
GEO:-36.86294;174.630982
X-APPLE-STRUCTURED-LOCATION;VALUE=URI;X-ADDRESS=Henderson Quality Hotel Lincoln Green 159 Lincoln Road Henderson 0610;X-APPLE-RADIUS=500;X-TITLE=Quality Hotel Lincoln Green\, 159 Lincoln Road:geo:174.630982,-36.86294
END:VEVENT
BEGIN:VEVENT
DTSTART;TZID=Pacific/Auckland:20261023T083000
DTEND;TZID=Pacific/Auckland:20261023T170000
DTSTAMP:20260426T152138
CREATED:20251021T232025Z
LAST-MODIFIED:20251021T232026Z
UID:10001405-1792744200-1792774800@www.a1firstaid.co.nz
SUMMARY:Foundation First Aid Workplace Level 1
DESCRIPTION:
URL:https://www.a1firstaid.co.nz/event/foundation-first-aid-workplace-level-1-72/
LOCATION:Henderson\, Quality Hotel Lincoln Green\, 159 Lincoln Road\, Henderson\, 0610
CATEGORIES:Foundation First Aid Workplace - Level 1,Henderson
ATTACH;FMTTYPE=image/webp:https://www.a1firstaid.co.nz/wp-content/uploads/2025/06/Foundation-First-Aid-Workplace-–-thumb.webp
GEO:-36.86294;174.630982
X-APPLE-STRUCTURED-LOCATION;VALUE=URI;X-ADDRESS=Henderson Quality Hotel Lincoln Green 159 Lincoln Road Henderson 0610;X-APPLE-RADIUS=500;X-TITLE=Quality Hotel Lincoln Green\, 159 Lincoln Road:geo:174.630982,-36.86294
END:VEVENT
BEGIN:VEVENT
DTSTART;TZID=Pacific/Auckland:20261105T080000
DTEND;TZID=Pacific/Auckland:20261105T150000
DTSTAMP:20260426T152138
CREATED:20251020T212003Z
LAST-MODIFIED:20251020T212004Z
UID:10001377-1793865600-1793890800@www.a1firstaid.co.nz
SUMMARY:Electrical Competency Refresher
DESCRIPTION:
URL:https://www.a1firstaid.co.nz/event/electrical-competency-refresher-30/
LOCATION:Henderson\, Quality Hotel Lincoln Green\, 159 Lincoln Road\, Henderson\, 0610
CATEGORIES:Electrical Competency Refresher,Henderson
ATTACH;FMTTYPE=image/webp:https://www.a1firstaid.co.nz/wp-content/uploads/2025/06/Electrical-Competency-Refresher_thumb.webp
GEO:-36.86294;174.630982
X-APPLE-STRUCTURED-LOCATION;VALUE=URI;X-ADDRESS=Henderson Quality Hotel Lincoln Green 159 Lincoln Road Henderson 0610;X-APPLE-RADIUS=500;X-TITLE=Quality Hotel Lincoln Green\, 159 Lincoln Road:geo:174.630982,-36.86294
END:VEVENT
BEGIN:VEVENT
DTSTART;TZID=Pacific/Auckland:20261109T083000
DTEND;TZID=Pacific/Auckland:20261109T170000
DTSTAMP:20260426T152138
CREATED:20251020T212009Z
LAST-MODIFIED:20251020T212010Z
UID:10001378-1794213000-1794243600@www.a1firstaid.co.nz
SUMMARY:Foundation First Aid Workplace Level 1
DESCRIPTION:
URL:https://www.a1firstaid.co.nz/event/foundation-first-aid-workplace-level-1-60/
LOCATION:Henderson\, Quality Hotel Lincoln Green\, 159 Lincoln Road\, Henderson\, 0610
CATEGORIES:Foundation First Aid Workplace - Level 1,Henderson
ATTACH;FMTTYPE=image/webp:https://www.a1firstaid.co.nz/wp-content/uploads/2025/06/Foundation-First-Aid-Workplace-–-thumb.webp
GEO:-36.86294;174.630982
X-APPLE-STRUCTURED-LOCATION;VALUE=URI;X-ADDRESS=Henderson Quality Hotel Lincoln Green 159 Lincoln Road Henderson 0610;X-APPLE-RADIUS=500;X-TITLE=Quality Hotel Lincoln Green\, 159 Lincoln Road:geo:174.630982,-36.86294
END:VEVENT
BEGIN:VEVENT
DTSTART;TZID=Pacific/Auckland:20261112T083000
DTEND;TZID=Pacific/Auckland:20261112T151500
DTSTAMP:20260426T152138
CREATED:20251020T212015Z
LAST-MODIFIED:20251020T212016Z
UID:10001379-1794472200-1794496500@www.a1firstaid.co.nz
SUMMARY:First Aid Revalidation Refresher
DESCRIPTION:
URL:https://www.a1firstaid.co.nz/event/first-aid-revalidation-refresher-61/
LOCATION:Henderson\, Quality Hotel Lincoln Green\, 159 Lincoln Road\, Henderson\, 0610
CATEGORIES:First Aid Revalidation - Refresher,Henderson
ATTACH;FMTTYPE=image/webp:https://www.a1firstaid.co.nz/wp-content/uploads/2025/06/First-Aid-Revalidation-Refresher-thumb.webp
GEO:-36.86294;174.630982
X-APPLE-STRUCTURED-LOCATION;VALUE=URI;X-ADDRESS=Henderson Quality Hotel Lincoln Green 159 Lincoln Road Henderson 0610;X-APPLE-RADIUS=500;X-TITLE=Quality Hotel Lincoln Green\, 159 Lincoln Road:geo:174.630982,-36.86294
END:VEVENT
BEGIN:VEVENT
DTSTART;TZID=Pacific/Auckland:20261114T083000
DTEND;TZID=Pacific/Auckland:20261114T151500
DTSTAMP:20260426T152138
CREATED:20251020T212026Z
LAST-MODIFIED:20251020T212027Z
UID:10001381-1794645000-1794669300@www.a1firstaid.co.nz
SUMMARY:First Aid Revalidation Refresher
DESCRIPTION:
URL:https://www.a1firstaid.co.nz/event/first-aid-revalidation-refresher-62/
LOCATION:Henderson\, Quality Hotel Lincoln Green\, 159 Lincoln Road\, Henderson\, 0610
CATEGORIES:First Aid Revalidation - Refresher,Henderson
ATTACH;FMTTYPE=image/webp:https://www.a1firstaid.co.nz/wp-content/uploads/2025/06/First-Aid-Revalidation-Refresher-thumb.webp
GEO:-36.86294;174.630982
X-APPLE-STRUCTURED-LOCATION;VALUE=URI;X-ADDRESS=Henderson Quality Hotel Lincoln Green 159 Lincoln Road Henderson 0610;X-APPLE-RADIUS=500;X-TITLE=Quality Hotel Lincoln Green\, 159 Lincoln Road:geo:174.630982,-36.86294
END:VEVENT
BEGIN:VEVENT
DTSTART;TZID=Pacific/Auckland:20261114T083000
DTEND;TZID=Pacific/Auckland:20261114T170000
DTSTAMP:20260426T152138
CREATED:20251020T212021Z
LAST-MODIFIED:20251020T212021Z
UID:10001380-1794645000-1794675600@www.a1firstaid.co.nz
SUMMARY:Foundation First Aid Workplace Level 1
DESCRIPTION:
URL:https://www.a1firstaid.co.nz/event/foundation-first-aid-workplace-level-1-61/
LOCATION:Henderson\, Quality Hotel Lincoln Green\, 159 Lincoln Road\, Henderson\, 0610
CATEGORIES:Foundation First Aid Workplace - Level 1,Henderson
ATTACH;FMTTYPE=image/webp:https://www.a1firstaid.co.nz/wp-content/uploads/2025/06/Foundation-First-Aid-Workplace-–-thumb.webp
GEO:-36.86294;174.630982
X-APPLE-STRUCTURED-LOCATION;VALUE=URI;X-ADDRESS=Henderson Quality Hotel Lincoln Green 159 Lincoln Road Henderson 0610;X-APPLE-RADIUS=500;X-TITLE=Quality Hotel Lincoln Green\, 159 Lincoln Road:geo:174.630982,-36.86294
END:VEVENT
BEGIN:VEVENT
DTSTART;TZID=Pacific/Auckland:20261124T083000
DTEND;TZID=Pacific/Auckland:20261124T170000
DTSTAMP:20260426T152138
CREATED:20251020T212032Z
LAST-MODIFIED:20251020T212032Z
UID:10001382-1795509000-1795539600@www.a1firstaid.co.nz
SUMMARY:Foundation First Aid Workplace Level 1
DESCRIPTION:
URL:https://www.a1firstaid.co.nz/event/foundation-first-aid-workplace-level-1-62/
LOCATION:Henderson\, Quality Hotel Lincoln Green\, 159 Lincoln Road\, Henderson\, 0610
CATEGORIES:Foundation First Aid Workplace - Level 1,Henderson
ATTACH;FMTTYPE=image/webp:https://www.a1firstaid.co.nz/wp-content/uploads/2025/06/Foundation-First-Aid-Workplace-–-thumb.webp
GEO:-36.86294;174.630982
X-APPLE-STRUCTURED-LOCATION;VALUE=URI;X-ADDRESS=Henderson Quality Hotel Lincoln Green 159 Lincoln Road Henderson 0610;X-APPLE-RADIUS=500;X-TITLE=Quality Hotel Lincoln Green\, 159 Lincoln Road:geo:174.630982,-36.86294
END:VEVENT
BEGIN:VEVENT
DTSTART;TZID=Pacific/Auckland:20261127T083000
DTEND;TZID=Pacific/Auckland:20261127T151500
DTSTAMP:20260426T152138
CREATED:20251020T212037Z
LAST-MODIFIED:20251020T212038Z
UID:10001383-1795768200-1795792500@www.a1firstaid.co.nz
SUMMARY:First Aid Revalidation Refresher
DESCRIPTION:
URL:https://www.a1firstaid.co.nz/event/first-aid-revalidation-refresher-63/
LOCATION:Henderson\, Quality Hotel Lincoln Green\, 159 Lincoln Road\, Henderson\, 0610
CATEGORIES:First Aid Revalidation - Refresher,Henderson
ATTACH;FMTTYPE=image/webp:https://www.a1firstaid.co.nz/wp-content/uploads/2025/06/First-Aid-Revalidation-Refresher-thumb.webp
GEO:-36.86294;174.630982
X-APPLE-STRUCTURED-LOCATION;VALUE=URI;X-ADDRESS=Henderson Quality Hotel Lincoln Green 159 Lincoln Road Henderson 0610;X-APPLE-RADIUS=500;X-TITLE=Quality Hotel Lincoln Green\, 159 Lincoln Road:geo:174.630982,-36.86294
END:VEVENT
BEGIN:VEVENT
DTSTART;TZID=Pacific/Auckland:20261201T080000
DTEND;TZID=Pacific/Auckland:20261201T150000
DTSTAMP:20260426T152138
CREATED:20251021T000003Z
LAST-MODIFIED:20251021T000006Z
UID:10001384-1796112000-1796137200@www.a1firstaid.co.nz
SUMMARY:Electrical Competency Refresher
DESCRIPTION:
URL:https://www.a1firstaid.co.nz/event/electrical-competency-refresher-31/
LOCATION:Henderson\, Quality Hotel Lincoln Green\, 159 Lincoln Road\, Henderson\, 0610
CATEGORIES:Electrical Competency Refresher,Henderson
ATTACH;FMTTYPE=image/webp:https://www.a1firstaid.co.nz/wp-content/uploads/2025/06/Electrical-Competency-Refresher_thumb.webp
GEO:-36.86294;174.630982
X-APPLE-STRUCTURED-LOCATION;VALUE=URI;X-ADDRESS=Henderson Quality Hotel Lincoln Green 159 Lincoln Road Henderson 0610;X-APPLE-RADIUS=500;X-TITLE=Quality Hotel Lincoln Green\, 159 Lincoln Road:geo:174.630982,-36.86294
END:VEVENT
BEGIN:VEVENT
DTSTART;TZID=Pacific/Auckland:20261209T083000
DTEND;TZID=Pacific/Auckland:20261209T170000
DTSTAMP:20260426T152138
CREATED:20251021T000012Z
LAST-MODIFIED:20251021T000013Z
UID:10001385-1796805000-1796835600@www.a1firstaid.co.nz
SUMMARY:Foundation First Aid Workplace Level 1
DESCRIPTION:
URL:https://www.a1firstaid.co.nz/event/foundation-first-aid-workplace-level-1-63/
LOCATION:Henderson\, Quality Hotel Lincoln Green\, 159 Lincoln Road\, Henderson\, 0610
CATEGORIES:Foundation First Aid Workplace - Level 1,Henderson
ATTACH;FMTTYPE=image/webp:https://www.a1firstaid.co.nz/wp-content/uploads/2025/06/Foundation-First-Aid-Workplace-–-thumb.webp
GEO:-36.86294;174.630982
X-APPLE-STRUCTURED-LOCATION;VALUE=URI;X-ADDRESS=Henderson Quality Hotel Lincoln Green 159 Lincoln Road Henderson 0610;X-APPLE-RADIUS=500;X-TITLE=Quality Hotel Lincoln Green\, 159 Lincoln Road:geo:174.630982,-36.86294
END:VEVENT
BEGIN:VEVENT
DTSTART;TZID=Pacific/Auckland:20261210T083000
DTEND;TZID=Pacific/Auckland:20261210T151500
DTSTAMP:20260426T152138
CREATED:20251021T000018Z
LAST-MODIFIED:20251021T000019Z
UID:10001386-1796891400-1796915700@www.a1firstaid.co.nz
SUMMARY:First Aid Revalidation Refresher
DESCRIPTION:
URL:https://www.a1firstaid.co.nz/event/first-aid-revalidation-refresher-64/
LOCATION:Henderson\, Quality Hotel Lincoln Green\, 159 Lincoln Road\, Henderson\, 0610
CATEGORIES:First Aid Revalidation - Refresher,Henderson
ATTACH;FMTTYPE=image/webp:https://www.a1firstaid.co.nz/wp-content/uploads/2025/06/First-Aid-Revalidation-Refresher-thumb.webp
GEO:-36.86294;174.630982
X-APPLE-STRUCTURED-LOCATION;VALUE=URI;X-ADDRESS=Henderson Quality Hotel Lincoln Green 159 Lincoln Road Henderson 0610;X-APPLE-RADIUS=500;X-TITLE=Quality Hotel Lincoln Green\, 159 Lincoln Road:geo:174.630982,-36.86294
END:VEVENT
END:VCALENDAR