BEGIN:VCALENDAR
VERSION:2.0
PRODID:-//A1 First Aid - ECPv4.6.21//NONSGML v1.0//EN
CALSCALE:GREGORIAN
METHOD:PUBLISH
X-WR-CALNAME:A1 First Aid
X-ORIGINAL-URL:https://www.a1firstaid.co.nz
X-WR-CALDESC:Events for A1 First Aid
BEGIN:VEVENT
DTSTART;TZID=Pacific/Auckland:20181215T083000
DTEND;TZID=Pacific/Auckland:20181215T173000
DTSTAMP:20181219T011513
CREATED:20171103T035629Z
LAST-MODIFIED:20171103T040453Z
UID:14026-1544862600-1544895000@www.a1firstaid.co.nz
SUMMARY:Workplace First Aid
DESCRIPTION:This course is the minimum requirement for low-risk workplace health and safely compliance and is recommended for anyone needing first aid training for workplace compliance eg: Workplace First Aiders\, Early Childhood Educators\, office staff\, health and safety coordinators. \nThe Workplace First Aid course covers: \nScene management - identifying and managing hazards\nFirst aid for life threatening conditions:\nStable Side Position: Adult\, child and infant\nCPR: Adult\, child and infant\nManagement of the choking patient: Adult\, child and infant\nFirst Aid conditions and how to respond to them \n\n
URL:https://www.a1firstaid.co.nz/event/workplace-first-aid-217824-copy-copy-copy-copy-copy-copy-copy-copy-copy-2-copy-copy-12-copy-22-copy-3-copy-24/
LOCATION:Quality Hotel Lincoln Green\, 159 Lincoln Road\, Henderson\, Auckland\, 0610\, New Zealand
GEO:-36.86294;174.630982
X-APPLE-STRUCTURED-LOCATION;VALUE=URI;X-ADDRESS=Quality Hotel Lincoln Green 159 Lincoln Road Henderson Auckland 0610 New Zealand;X-APPLE-RADIUS=500;X-TITLE=Quality Hotel Lincoln Green\, 159 Lincoln Road:geo:174.630982,-36.86294
CATEGORIES:Workplace First Aid
ORGANIZER;CN="A1%20First%20Aid":MAILTO:info@a1firstaid.co.nz
END:VEVENT
BEGIN:VEVENT
DTSTART;TZID=Pacific/Auckland:20181215T083000
DTEND;TZID=Pacific/Auckland:20181215T151500
DTSTAMP:20181219T011513
CREATED:20171108T003411Z
LAST-MODIFIED:20171108T004124Z
UID:14084-1544862600-1544886900@www.a1firstaid.co.nz
SUMMARY:Workplace First Aid Refresher
DESCRIPTION:This course provides refresher training for those who have completed a Workplace first aid certificate within the last 2 years and 3 months. \nIf you completed training with another provider you can still complete a refresher course with A1 First Aid. You must provide a copy of your current first aid certificate before enrolling on a refresher course. \nPlease note: The First Aid Refresher course does not include assessment for unit standards and is designed to refresh / maintain existing skills for those who have previously completed unit standards 6402\, 6401 and 6400 or 26551 and 26552. \n\n
URL:https://www.a1firstaid.co.nz/event/workplace-first-aid-refresher-23-copy-copy-copy-2-copy-copy-copy-copy-copy-copy-copy-copy-11-copy-16-copy-6-copy-7/
LOCATION:Quality Hotel Lincoln Green\, 159 Lincoln Road\, Henderson\, Auckland\, 0610\, New Zealand
GEO:-36.86294;174.630982
X-APPLE-STRUCTURED-LOCATION;VALUE=URI;X-ADDRESS=Quality Hotel Lincoln Green 159 Lincoln Road Henderson Auckland 0610 New Zealand;X-APPLE-RADIUS=500;X-TITLE=Quality Hotel Lincoln Green\, 159 Lincoln Road:geo:174.630982,-36.86294
CATEGORIES:Workplace First Aid Refresher
ORGANIZER;CN="A1%20First%20Aid":MAILTO:info@a1firstaid.co.nz
END:VEVENT
BEGIN:VEVENT
DTSTART;TZID=Pacific/Auckland:20181217T083000
DTEND;TZID=Pacific/Auckland:20181217T173000
DTSTAMP:20181219T011513
CREATED:20171015T214141Z
LAST-MODIFIED:20171015T214218Z
UID:13947-1545035400-1545067800@www.a1firstaid.co.nz
SUMMARY:Workplace First Aid
DESCRIPTION:This course is the minimum requirement for low-risk workplace health and safely compliance and is recommended for anyone needing first aid training for workplace compliance eg: Workplace First Aiders\, Early Childhood Educators\, office staff\, health and safety coordinators. \nThe Workplace First Aid course covers: \nScene management - identifying and managing hazards\nFirst aid for life threatening conditions:\nStable Side Position: Adult\, child and infant\nCPR: Adult\, child and infant\nManagement of the choking patient: Adult\, child and infant\nFirst Aid conditions and how to respond to them \n\n
URL:https://www.a1firstaid.co.nz/event/workplace-first-aid-217824-copy-copy-copy-copy-copy-copy-copy-copy-copy-2-copy-copy-12-copy-22/
LOCATION:Quality Hotel Parnell\, 10-20 Gladstone Road\, Parnell\, Auckland\, 1051\, New Zealand
GEO:-36.8562386;174.7869988
X-APPLE-STRUCTURED-LOCATION;VALUE=URI;X-ADDRESS=Quality Hotel Parnell 10-20 Gladstone Road Parnell Auckland 1051 New Zealand;X-APPLE-RADIUS=500;X-TITLE=Quality Hotel Parnell\, 10-20 Gladstone Road:geo:174.7869988,-36.8562386
CATEGORIES:Workplace First Aid
ORGANIZER;CN="A1%20First%20Aid":MAILTO:info@a1firstaid.co.nz
END:VEVENT
BEGIN:VEVENT
DTSTART;TZID=Pacific/Auckland:20181219T083000
DTEND;TZID=Pacific/Auckland:20181219T173000
DTSTAMP:20181219T011513
CREATED:20181126T024752Z
LAST-MODIFIED:20181126T024837Z
UID:14951-1545208200-1545240600@www.a1firstaid.co.nz
SUMMARY:Workplace First Aid
DESCRIPTION:This course is the minimum requirement for low-risk workplace health and safely compliance and is recommended for anyone needing first aid training for workplace compliance eg: Workplace First Aiders\, Early Childhood Educators\, office staff\, health and safety coordinators. \nThe Workplace First Aid course covers: \nScene management - identifying and managing hazards\nFirst aid for life threatening conditions:\nStable Side Position: Adult\, child and infant\nCPR: Adult\, child and infant\nManagement of the choking patient: Adult\, child and infant\nFirst Aid conditions and how to respond to them \n\n
URL:https://www.a1firstaid.co.nz/event/workplace-first-aid-19-12-2018/
LOCATION:Quality Hotel Lincoln Green\, 159 Lincoln Road\, Henderson\, Auckland\, 0610\, New Zealand
GEO:-36.86294;174.630982
X-APPLE-STRUCTURED-LOCATION;VALUE=URI;X-ADDRESS=Quality Hotel Lincoln Green 159 Lincoln Road Henderson Auckland 0610 New Zealand;X-APPLE-RADIUS=500;X-TITLE=Quality Hotel Lincoln Green\, 159 Lincoln Road:geo:174.630982,-36.86294
CATEGORIES:Workplace First Aid
ORGANIZER;CN="A1%20First%20Aid":MAILTO:info@a1firstaid.co.nz
END:VEVENT
BEGIN:VEVENT
DTSTART;TZID=Pacific/Auckland:20181219T083000
DTEND;TZID=Pacific/Auckland:20181219T151500
DTSTAMP:20181219T011514
CREATED:20181126T024921Z
LAST-MODIFIED:20181126T025000Z
UID:14953-1545208200-1545232500@www.a1firstaid.co.nz
SUMMARY:Workplace First Aid Refresher
DESCRIPTION:This course provides refresher training for those who have completed a Workplace first aid certificate within the last 2 years and 3 months. \nIf you completed training with another provider you can still complete a refresher course with A1 First Aid. You must provide a copy of your current first aid certificate before enrolling on a refresher course. \nPlease note: The First Aid Refresher course does not include assessment for unit standards and is designed to refresh / maintain existing skills for those who have previously completed unit standards 6402\, 6401 and 6400 or 26551 and 26552. \n\n
URL:https://www.a1firstaid.co.nz/event/workplace-first-aid-refresher-19-12-2018/
LOCATION:Quality Hotel Lincoln Green\, 159 Lincoln Road\, Henderson\, Auckland\, 0610\, New Zealand
GEO:-36.86294;174.630982
X-APPLE-STRUCTURED-LOCATION;VALUE=URI;X-ADDRESS=Quality Hotel Lincoln Green 159 Lincoln Road Henderson Auckland 0610 New Zealand;X-APPLE-RADIUS=500;X-TITLE=Quality Hotel Lincoln Green\, 159 Lincoln Road:geo:174.630982,-36.86294
CATEGORIES:Workplace First Aid Refresher
ORGANIZER;CN="A1%20First%20Aid":MAILTO:info@a1firstaid.co.nz
END:VEVENT
END:VCALENDAR